BEGIN:VCALENDAR
VERSION:2.0
PRODID:-//Date iCal//NONSGML kigkonsult.se iCalcreator 2.20.2//
METHOD:PUBLISH
X-WR-CALNAME;VALUE=TEXT:Mayostudios
BEGIN:VEVENT
UID:calendar.1271.field_oa_date.0@mayo.oblateyouth.com.au
DTSTAMP:20210226T040932Z
CREATED:20151218T224857Z
DESCRIPTION:A showcase of the talent within St. Augustines Parish\, in supp
 ort of the youth group.
DTSTART:20151219T190000Z
DTEND:20151219T210000Z
LAST-MODIFIED:20151218T224857Z
SUMMARY:Twilight Concert
URL;TYPE=URI:http://mayo.oblateyouth.com.au/SAYG/sayg-calendar/twilight-con
 cert
END:VEVENT
END:VCALENDAR
