BEGIN:VCALENDAR
VERSION:2.0
PRODID:-//Date iCal//NONSGML kigkonsult.se iCalcreator 2.20.2//
METHOD:PUBLISH
X-WR-CALNAME;VALUE=TEXT:Mayostudios
BEGIN:VEVENT
UID:calendar.602.field_oa_date.0@mayo.oblateyouth.com.au
DTSTAMP:20210223T204424Z
CREATED:20150630T042524Z
DESCRIPTION:Come join in the fun!
DTSTART:20150723T193000Z
DTEND:20150723T210000Z
LAST-MODIFIED:20150630T042524Z
LOCATION:349 Springvale Rd\, Glen Waverley VIC 3150\, Australia
RRULE:FREQ=WEEKLY;UNTIL=20150917T235959Z;INTERVAL=2;BYDAY=TH;WKST=SU
SUMMARY:Aftershock
URL;TYPE=URI:http://mayo.oblateyouth.com.au/aftershock-youth-group/aftersho
 ck-events/aftershock
END:VEVENT
END:VCALENDAR
